Package: XINA Version: 1.27.0 Command: /Library/Frameworks/R.framework/Resources/bin/R CMD build --keep-empty-dirs --no-resave-data XINA StartedAt: 2025-10-16 20:23:13 -0400 (Thu, 16 Oct 2025) EndedAt: 2025-10-16 21:03:13 -0400 (Thu, 16 Oct 2025) EllapsedTime: 2400.0 seconds RetCode: None Status: TIMEOUT PackageFile: None PackageFileSize: NA