Package: XINA Version: 1.27.0 Command: rm -rf XINA.buildbin-libdir && mkdir XINA.buildbin-libdir && /Users/biocbuild/BBS/utils/build-universal.sh XINA_1.27.0.tar.gz /Library/Frameworks/R.framework/Resources/bin/R XINA.buildbin-libdir StartedAt: 2025-10-16 03:24:23 -0400 (Thu, 16 Oct 2025) EndedAt: 2025-10-16 03:24:37 -0400 (Thu, 16 Oct 2025) EllapsedTime: 13.9 seconds RetCode: 0 Status: OK PackageFile: XINA_1.27.0.tgz PackageFileSize: 3.276 MiB