Package: XAItest Version: 1.1.5 Command: /home/biocbuild/bbs-3.22-bioc/R/bin/R CMD check --install=check:XAItest.install-out.txt --library=/home/biocbuild/bbs-3.22-bioc/R/site-library --timings XAItest_1.1.5.tar.gz StartedAt: 2025-10-25 05:25:35 -0400 (Sat, 25 Oct 2025) EndedAt: 2025-10-25 05:27:36 -0400 (Sat, 25 Oct 2025) EllapsedTime: 121.1 seconds RetCode: 0 Status: WARNINGS CheckDir: XAItest.Rcheck Warnings: 2