Package: XAItest Version: 1.1.3 Command: /Library/Frameworks/R.framework/Resources/bin/R CMD INSTALL XAItest StartedAt: 2025-09-30 15:22:20 -0400 (Tue, 30 Sep 2025) EndedAt: 2025-09-30 15:22:26 -0400 (Tue, 30 Sep 2025) EllapsedTime: 6.5 seconds RetCode: 0 Status: OK