Package: XAItest Version: 1.1.3 Command: /Library/Frameworks/R.framework/Resources/bin/R CMD build --keep-empty-dirs --no-resave-data XAItest StartedAt: 2025-10-01 19:19:28 -0400 (Wed, 01 Oct 2025) EndedAt: 2025-10-01 19:21:33 -0400 (Wed, 01 Oct 2025) EllapsedTime: 125.0 seconds RetCode: 0 Status: OK PackageFile: XAItest_1.1.3.tar.gz PackageFileSize: 1.388 MiB