Package: XAItest Version: 1.1.3 Command: rm -rf XAItest.buildbin-libdir && mkdir XAItest.buildbin-libdir && /Users/biocbuild/BBS/utils/build-universal.sh XAItest_1.1.3.tar.gz /Library/Frameworks/R.framework/Resources/bin/R XAItest.buildbin-libdir StartedAt: 2025-10-01 02:13:37 -0400 (Wed, 01 Oct 2025) EndedAt: 2025-10-01 02:13:45 -0400 (Wed, 01 Oct 2025) EllapsedTime: 8.0 seconds RetCode: 0 Status: OK PackageFile: XAItest_1.1.3.tgz PackageFileSize: 1.02 MiB