Package: XAItest Version: 1.1.5 Maintainer: Ghislain FIEVET MaintainerEmail: ghislain.fievet at gmail.com git_url: https://git.bioconductor.org/packages/XAItest git_branch: devel git_last_commit: 419fe30 git_last_commit_date: 2025-10-05 03:47:18 -0400 (Sun, 05 Oct 2025)