Package: Wrench Version: 1.29.0 Command: /home/biocbuild/bbs-3.23-bioc/R/bin/R CMD INSTALL Wrench StartedAt: 2025-11-14 15:04:51 -0500 (Fri, 14 Nov 2025) EndedAt: 2025-11-14 15:05:12 -0500 (Fri, 14 Nov 2025) EllapsedTime: 21.5 seconds RetCode: 0 Status: OK