Package: Wrench Version: 1.29.0 Command: /home/biocbuild/bbs-3.23-bioc/R/bin/R CMD build --keep-empty-dirs --no-resave-data Wrench StartedAt: 2025-11-14 20:46:13 -0500 (Fri, 14 Nov 2025) EndedAt: 2025-11-14 20:46:55 -0500 (Fri, 14 Nov 2025) EllapsedTime: 42.0 seconds RetCode: 0 Status: OK PackageFile: Wrench_1.29.0.tar.gz PackageFileSize: 224.8 KiB