Package: VplotR Version: 1.19.1 Command: /home/biocbuild/R/R/bin/R CMD check --install=check:VplotR.install-out.txt --library=/home/biocbuild/R/R/site-library --no-vignettes --timings VplotR_1.19.1.tar.gz StartedAt: 2025-10-17 14:54:18 -0000 (Fri, 17 Oct 2025) EndedAt: 2025-10-17 15:01:13 -0000 (Fri, 17 Oct 2025) EllapsedTime: 415.4 seconds RetCode: 0 Status: OK CheckDir: VplotR.Rcheck Warnings: 0