Package: VplotR Version: 1.21.0 Command: /home/biocbuild/bbs-3.23-bioc/R/bin/R CMD INSTALL VplotR StartedAt: 2025-11-02 15:54:57 -0500 (Sun, 02 Nov 2025) EndedAt: 2025-11-02 15:55:28 -0500 (Sun, 02 Nov 2025) EllapsedTime: 31.5 seconds RetCode: 0 Status: OK