Package: VplotR Version: 1.21.0 Command: /home/biocbuild/bbs-3.23-bioc/R/bin/R CMD build --keep-empty-dirs --no-resave-data VplotR StartedAt: 2025-11-02 20:34:44 -0500 (Sun, 02 Nov 2025) EndedAt: 2025-11-02 20:36:08 -0500 (Sun, 02 Nov 2025) EllapsedTime: 84.1 seconds RetCode: 1 Status: ERROR PackageFile: None PackageFileSize: NA