Package: VplotR Version: 1.19.1 Command: /Library/Frameworks/R.framework/Resources/bin/R CMD check --install=check:VplotR.install-out.txt --library=/Library/Frameworks/R.framework/Resources/library --no-vignettes --timings VplotR_1.19.1.tar.gz StartedAt: 2025-10-10 01:59:21 -0400 (Fri, 10 Oct 2025) EndedAt: 2025-10-10 02:05:45 -0400 (Fri, 10 Oct 2025) EllapsedTime: 383.8 seconds RetCode: 0 Status: OK CheckDir: VplotR.Rcheck Warnings: 0