Package: Voyager Version: 1.13.0 Command: /home/biocbuild/bbs-3.23-bioc/R/bin/R CMD INSTALL Voyager StartedAt: 2025-11-21 15:34:22 -0500 (Fri, 21 Nov 2025) EndedAt: 2025-11-21 15:35:15 -0500 (Fri, 21 Nov 2025) EllapsedTime: 53.3 seconds RetCode: 0 Status: OK