Package: Voyager Version: 1.13.0 Command: /home/biocbuild/bbs-3.23-bioc/R/bin/R CMD build --keep-empty-dirs --no-resave-data Voyager StartedAt: 2025-11-21 20:43:25 -0500 (Fri, 21 Nov 2025) EndedAt: 2025-11-21 20:44:59 -0500 (Fri, 21 Nov 2025) EllapsedTime: 94.0 seconds RetCode: 0 Status: OK PackageFile: Voyager_1.13.0.tar.gz PackageFileSize: 3.957 MiB