Package: VisiumIO Version: 1.5.11 Command: /home/biocbuild/R/R/bin/R CMD INSTALL VisiumIO StartedAt: 2025-10-20 20:52:57 -0000 (Mon, 20 Oct 2025) EndedAt: 2025-10-20 20:53:29 -0000 (Mon, 20 Oct 2025) EllapsedTime: 32.7 seconds RetCode: 0 Status: OK