Package: VisiumIO Version: 1.5.11 Command: /home/biocbuild/R/R/bin/R CMD build --keep-empty-dirs --no-resave-data VisiumIO StartedAt: 2025-10-21 04:00:55 -0000 (Tue, 21 Oct 2025) EndedAt: 2025-10-21 04:01:47 -0000 (Tue, 21 Oct 2025) EllapsedTime: 52.0 seconds RetCode: 0 Status: OK PackageFile: VisiumIO_1.5.11.tar.gz PackageFileSize: 1.853 MiB