Package: VisiumIO Version: 1.5.11 Command: /home/biocbuild/bbs-3.22-bioc/R/bin/R CMD check --install=check:VisiumIO.install-out.txt --library=/home/biocbuild/bbs-3.22-bioc/R/site-library --timings VisiumIO_1.5.11.tar.gz StartedAt: 2025-10-16 06:11:55 -0400 (Thu, 16 Oct 2025) EndedAt: 2025-10-16 06:15:22 -0400 (Thu, 16 Oct 2025) EllapsedTime: 207.1 seconds RetCode: 0 Status: OK CheckDir: VisiumIO.Rcheck Warnings: 0