Package: VisiumIO Version: 1.7.3 Command: /home/biocbuild/bbs-3.23-bioc/R/bin/R CMD INSTALL VisiumIO StartedAt: 2025-11-19 15:23:59 -0500 (Wed, 19 Nov 2025) EndedAt: 2025-11-19 15:24:25 -0500 (Wed, 19 Nov 2025) EllapsedTime: 26.1 seconds RetCode: 0 Status: OK