Package: VisiumIO Version: 1.7.3 Command: /home/biocbuild/bbs-3.23-bioc/R/bin/R CMD build --keep-empty-dirs --no-resave-data VisiumIO StartedAt: 2025-11-19 20:43:58 -0500 (Wed, 19 Nov 2025) EndedAt: 2025-11-19 20:44:38 -0500 (Wed, 19 Nov 2025) EllapsedTime: 40.0 seconds RetCode: 0 Status: OK PackageFile: VisiumIO_1.7.3.tar.gz PackageFileSize: 1.828 MiB