Package: VisiumIO Version: 1.5.8 Maintainer: Marcel Ramos MaintainerEmail: marcel.ramos at sph.cuny.edu git_url: https://git.bioconductor.org/packages/VisiumIO git_branch: devel git_last_commit: c17c663 git_last_commit_date: 2025-10-07 16:47:18 -0400 (Tue, 07 Oct 2025)