Package: ViSEAGO Version: 1.25.0 Command: /home/biocbuild/bbs-3.23-bioc/R/bin/R CMD INSTALL ViSEAGO StartedAt: 2025-11-21 15:41:59 -0500 (Fri, 21 Nov 2025) EndedAt: 2025-11-21 15:42:33 -0500 (Fri, 21 Nov 2025) EllapsedTime: 34.4 seconds RetCode: 0 Status: OK