Package: ViSEAGO Version: 1.25.0 Command: /home/biocbuild/bbs-3.23-bioc/R/bin/R CMD build --keep-empty-dirs --no-resave-data ViSEAGO StartedAt: 2025-11-21 20:42:29 -0500 (Fri, 21 Nov 2025) EndedAt: 2025-11-21 20:43:24 -0500 (Fri, 21 Nov 2025) EllapsedTime: 55.0 seconds RetCode: 0 Status: OK PackageFile: ViSEAGO_1.25.0.tar.gz PackageFileSize: 8.622 MiB