Package: VennDetail Version: 1.25.3 Command: /home/biocbuild/bbs-3.22-bioc/R/bin/R CMD INSTALL VennDetail StartedAt: 2025-10-05 15:09:35 -0400 (Sun, 05 Oct 2025) EndedAt: 2025-10-05 15:09:51 -0400 (Sun, 05 Oct 2025) EllapsedTime: 16.2 seconds RetCode: 0 Status: OK