Package: VegaMC Version: 3.47.0 Command: /Library/Frameworks/R.framework/Resources/bin/R CMD INSTALL VegaMC StartedAt: 2025-10-10 15:11:19 -0400 (Fri, 10 Oct 2025) EndedAt: 2025-10-10 15:11:25 -0400 (Fri, 10 Oct 2025) EllapsedTime: 5.9 seconds RetCode: 0 Status: OK