Package: VegaMC Version: 3.47.0 Command: /Library/Frameworks/R.framework/Resources/bin/R CMD build --keep-empty-dirs --no-resave-data VegaMC StartedAt: 2025-10-12 17:59:24 -0400 (Sun, 12 Oct 2025) EndedAt: 2025-10-12 17:59:37 -0400 (Sun, 12 Oct 2025) EllapsedTime: 13.1 seconds RetCode: 0 Status: OK PackageFile: VegaMC_3.47.0.tar.gz PackageFileSize: 1.777 MiB