Package: VariantTools Version: 1.53.0 Command: /home/biocbuild/bbs-3.23-bioc/R/bin/R CMD INSTALL VariantTools StartedAt: 2025-11-03 15:42:01 -0500 (Mon, 03 Nov 2025) EndedAt: 2025-11-03 15:42:42 -0500 (Mon, 03 Nov 2025) EllapsedTime: 41.1 seconds RetCode: 0 Status: OK