Package: VariantTools Version: 1.53.0 Command: /home/biocbuild/bbs-3.23-bioc/R/bin/R CMD build --keep-empty-dirs --no-resave-data VariantTools StartedAt: 2025-11-03 20:31:21 -0500 (Mon, 03 Nov 2025) EndedAt: 2025-11-03 20:32:19 -0500 (Mon, 03 Nov 2025) EllapsedTime: 58.0 seconds RetCode: 1 Status: ERROR PackageFile: None PackageFileSize: NA