Package: VariantTools Version: 1.51.0 Command: /Library/Frameworks/R.framework/Resources/bin/R CMD check --install=check:VariantTools.install-out.txt --library=/Library/Frameworks/R.framework/Resources/library --no-vignettes --timings VariantTools_1.51.0.tar.gz StartedAt: 2025-10-15 22:24:14 -0400 (Wed, 15 Oct 2025) EndedAt: 2025-10-15 22:24:18 -0400 (Wed, 15 Oct 2025) EllapsedTime: 4.1 seconds RetCode: 1 Status: ERROR CheckDir: VariantTools.Rcheck Warnings: NA