Package: VariantExperiment Version: 1.23.0 Command: /home/biocbuild/R/R/bin/R CMD INSTALL VariantExperiment StartedAt: 2025-10-09 21:18:37 -0000 (Thu, 09 Oct 2025) EndedAt: 2025-10-09 21:19:08 -0000 (Thu, 09 Oct 2025) EllapsedTime: 31.5 seconds RetCode: 0 Status: OK