Package: VariantExperiment Version: 1.23.0 Command: /home/biocbuild/R/R/bin/R CMD build --keep-empty-dirs --no-resave-data VariantExperiment StartedAt: 2025-10-10 04:59:01 -0000 (Fri, 10 Oct 2025) EndedAt: 2025-10-10 05:00:01 -0000 (Fri, 10 Oct 2025) EllapsedTime: 60.0 seconds RetCode: 0 Status: OK PackageFile: VariantExperiment_1.23.0.tar.gz PackageFileSize: 394.5 KiB