Package: VariantExperiment Version: 1.25.0 Command: /home/biocbuild/bbs-3.23-bioc/R/bin/R CMD INSTALL VariantExperiment StartedAt: 2025-11-04 15:23:45 -0500 (Tue, 04 Nov 2025) EndedAt: 2025-11-04 15:24:10 -0500 (Tue, 04 Nov 2025) EllapsedTime: 24.7 seconds RetCode: 0 Status: OK