Package: VariantExperiment Version: 1.25.0 Command: /home/biocbuild/bbs-3.23-bioc/R/bin/R CMD check --install=check:VariantExperiment.install-out.txt --library=/home/biocbuild/bbs-3.23-bioc/R/site-library --timings VariantExperiment_1.25.0.tar.gz StartedAt: 2025-11-07 04:51:53 -0500 (Fri, 07 Nov 2025) EndedAt: 2025-11-07 04:55:24 -0500 (Fri, 07 Nov 2025) EllapsedTime: 211.2 seconds RetCode: 0 Status: OK CheckDir: VariantExperiment.Rcheck Warnings: 0