Package: VariantAnnotation Version: 1.55.1 Command: /home/biocbuild/R/R/bin/R CMD check --install=check:VariantAnnotation.install-out.txt --library=/home/biocbuild/R/R/site-library --no-vignettes --timings VariantAnnotation_1.55.1.tar.gz StartedAt: 2025-09-30 14:33:34 -0000 (Tue, 30 Sep 2025) EndedAt: 2025-09-30 14:42:54 -0000 (Tue, 30 Sep 2025) EllapsedTime: 559.4 seconds RetCode: 0 Status: WARNINGS CheckDir: VariantAnnotation.Rcheck Warnings: 2