Package: VariantAnnotation Version: 1.57.0 Command: /home/biocbuild/bbs-3.23-bioc/R/bin/R CMD INSTALL VariantAnnotation StartedAt: 2025-11-02 15:45:07 -0500 (Sun, 02 Nov 2025) EndedAt: 2025-11-02 15:46:18 -0500 (Sun, 02 Nov 2025) EllapsedTime: 70.4 seconds RetCode: 0 Status: OK