Package: VariantAnnotation Version: 1.57.0 Command: /home/biocbuild/bbs-3.23-bioc/R/bin/R CMD check --install=check:VariantAnnotation.install-out.txt --library=/home/biocbuild/bbs-3.23-bioc/R/site-library --timings VariantAnnotation_1.57.0.tar.gz StartedAt: 2025-11-05 04:55:31 -0500 (Wed, 05 Nov 2025) EndedAt: 2025-11-05 05:06:39 -0500 (Wed, 05 Nov 2025) EllapsedTime: 667.7 seconds RetCode: 0 Status: WARNINGS CheckDir: VariantAnnotation.Rcheck Warnings: 1