Package: VariantAnnotation Version: 1.57.0 Command: /home/biocbuild/bbs-3.23-bioc/R/bin/R CMD build --keep-empty-dirs --no-resave-data VariantAnnotation StartedAt: 2025-11-02 20:31:57 -0500 (Sun, 02 Nov 2025) EndedAt: 2025-11-02 20:34:54 -0500 (Sun, 02 Nov 2025) EllapsedTime: 177.1 seconds RetCode: 0 Status: OK PackageFile: VariantAnnotation_1.57.0.tar.gz PackageFileSize: 2.045 MiB