Package: VariantAnnotation Version: 1.55.1 Command: /Library/Frameworks/R.framework/Resources/bin/R CMD check --install=check:VariantAnnotation.install-out.txt --library=/Library/Frameworks/R.framework/Resources/library --no-vignettes --timings VariantAnnotation_1.55.1.tar.gz StartedAt: 2025-10-03 01:19:46 -0400 (Fri, 03 Oct 2025) EndedAt: 2025-10-03 01:28:09 -0400 (Fri, 03 Oct 2025) EllapsedTime: 502.5 seconds RetCode: 0 Status: WARNINGS CheckDir: VariantAnnotation.Rcheck Warnings: 2