Package: VarCon Version: 1.17.0 Command: /home/biocbuild/R/R/bin/R CMD INSTALL VarCon StartedAt: 2025-10-16 21:48:27 -0000 (Thu, 16 Oct 2025) EndedAt: 2025-10-16 21:49:17 -0000 (Thu, 16 Oct 2025) EllapsedTime: 50.3 seconds RetCode: 0 Status: OK