Package: VarCon Version: 1.17.0 Command: /home/biocbuild/R/R/bin/R CMD build --keep-empty-dirs --no-resave-data VarCon StartedAt: 2025-10-17 05:27:54 -0000 (Fri, 17 Oct 2025) EndedAt: 2025-10-17 05:29:02 -0000 (Fri, 17 Oct 2025) EllapsedTime: 68.0 seconds RetCode: 0 Status: OK PackageFile: VarCon_1.17.0.tar.gz PackageFileSize: 1.915 MiB