Package: VarCon Version: 1.17.0 Command: /home/biocbuild/bbs-3.22-bioc/R/bin/R CMD check --install=check:VarCon.install-out.txt --library=/home/biocbuild/bbs-3.22-bioc/R/site-library --timings VarCon_1.17.0.tar.gz StartedAt: 2025-10-14 05:39:30 -0400 (Tue, 14 Oct 2025) EndedAt: 2025-10-14 05:44:18 -0400 (Tue, 14 Oct 2025) EllapsedTime: 288.3 seconds RetCode: 0 Status: OK CheckDir: VarCon.Rcheck Warnings: 0