Package: VarCon Version: 1.19.0 Command: /home/biocbuild/bbs-3.23-bioc/R/bin/R CMD INSTALL VarCon StartedAt: 2025-11-04 15:30:52 -0500 (Tue, 04 Nov 2025) EndedAt: 2025-11-04 15:31:31 -0500 (Tue, 04 Nov 2025) EllapsedTime: 38.5 seconds RetCode: 0 Status: OK