Package: VanillaICE Version: 1.73.0 Command: /home/biocbuild/bbs-3.23-bioc/R/bin/R CMD INSTALL VanillaICE StartedAt: 2025-11-20 15:34:22 -0500 (Thu, 20 Nov 2025) EndedAt: 2025-11-20 15:34:58 -0500 (Thu, 20 Nov 2025) EllapsedTime: 36.4 seconds RetCode: 0 Status: OK