Package: VanillaICE Version: 1.73.0 Command: /home/biocbuild/bbs-3.23-bioc/R/bin/R CMD build --keep-empty-dirs --no-resave-data VanillaICE StartedAt: 2025-11-20 20:40:48 -0500 (Thu, 20 Nov 2025) EndedAt: 2025-11-20 20:41:47 -0500 (Thu, 20 Nov 2025) EllapsedTime: 59.0 seconds RetCode: 0 Status: OK PackageFile: VanillaICE_1.73.0.tar.gz PackageFileSize: 2.072 MiB