Package: VanillaICE Version: 1.71.0 Command: rm -rf VanillaICE.buildbin-libdir && mkdir VanillaICE.buildbin-libdir && /Users/biocbuild/BBS/utils/build-universal.sh VanillaICE_1.71.0.tar.gz /Library/Frameworks/R.framework/Resources/bin/R VanillaICE.buildbin-libdir StartedAt: 2025-10-22 23:21:02 -0400 (Wed, 22 Oct 2025) EndedAt: 2025-10-22 23:21:18 -0400 (Wed, 22 Oct 2025) EllapsedTime: 16.3 seconds RetCode: 0 Status: OK PackageFile: VanillaICE_1.71.0.tgz PackageFileSize: 3 MiB