Package: VaSP Version: 1.21.0 Command: /home/biocbuild/bbs-3.22-bioc/R/bin/R CMD check --install=check:VaSP.install-out.txt --library=/home/biocbuild/bbs-3.22-bioc/R/site-library --timings VaSP_1.21.0.tar.gz StartedAt: 2025-10-25 05:17:07 -0400 (Sat, 25 Oct 2025) EndedAt: 2025-10-25 05:21:16 -0400 (Sat, 25 Oct 2025) EllapsedTime: 248.2 seconds RetCode: 0 Status: OK CheckDir: VaSP.Rcheck Warnings: 0