Package: VaSP Version: 1.23.0 Command: /home/biocbuild/bbs-3.23-bioc/R/bin/R CMD INSTALL VaSP StartedAt: 2025-11-05 15:36:08 -0500 (Wed, 05 Nov 2025) EndedAt: 2025-11-05 15:36:42 -0500 (Wed, 05 Nov 2025) EllapsedTime: 34.3 seconds RetCode: 0 Status: OK