Package: VaSP Version: 1.23.0 Command: /home/biocbuild/bbs-3.23-bioc/R/bin/R CMD build --keep-empty-dirs --no-resave-data VaSP StartedAt: 2025-11-05 20:41:20 -0500 (Wed, 05 Nov 2025) EndedAt: 2025-11-05 20:42:10 -0500 (Wed, 05 Nov 2025) EllapsedTime: 50.0 seconds RetCode: 0 Status: OK PackageFile: VaSP_1.23.0.tar.gz PackageFileSize: 8.456 MiB