Package: VaSP Version: 1.21.0 Command: /Library/Frameworks/R.framework/Resources/bin/R CMD build --keep-empty-dirs --no-resave-data VaSP StartedAt: 2025-10-09 19:35:00 -0400 (Thu, 09 Oct 2025) EndedAt: 2025-10-09 19:36:00 -0400 (Thu, 09 Oct 2025) EllapsedTime: 59.5 seconds RetCode: 0 Status: OK PackageFile: VaSP_1.21.0.tar.gz PackageFileSize: 8.456 MiB