Package: VERSO Version: 1.21.0 Command: /home/biocbuild/bbs-3.23-bioc/R/bin/R CMD INSTALL VERSO StartedAt: 2025-11-20 15:06:21 -0500 (Thu, 20 Nov 2025) EndedAt: 2025-11-20 15:07:05 -0500 (Thu, 20 Nov 2025) EllapsedTime: 44.0 seconds RetCode: 0 Status: OK